BEGIN:VCALENDAR
VERSION:2.0
PRODID:-//Hildegardparochie - ECPv6.15.20//NONSGML v1.0//EN
CALSCALE:GREGORIAN
METHOD:PUBLISH
X-WR-CALNAME:Hildegardparochie
X-ORIGINAL-URL:https://www.hildegardparochie.nl
X-WR-CALDESC:Evenementen voor Hildegardparochie
REFRESH-INTERVAL;VALUE=DURATION:PT1H
X-Robots-Tag:noindex
X-PUBLISHED-TTL:PT1H
BEGIN:VTIMEZONE
TZID:Europe/Amsterdam
BEGIN:DAYLIGHT
TZOFFSETFROM:+0100
TZOFFSETTO:+0200
TZNAME:CEST
DTSTART:20250330T010000
END:DAYLIGHT
BEGIN:STANDARD
TZOFFSETFROM:+0200
TZOFFSETTO:+0100
TZNAME:CET
DTSTART:20251026T010000
END:STANDARD
BEGIN:DAYLIGHT
TZOFFSETFROM:+0100
TZOFFSETTO:+0200
TZNAME:CEST
DTSTART:20260329T010000
END:DAYLIGHT
BEGIN:STANDARD
TZOFFSETFROM:+0200
TZOFFSETTO:+0100
TZNAME:CET
DTSTART:20261025T010000
END:STANDARD
BEGIN:DAYLIGHT
TZOFFSETFROM:+0100
TZOFFSETTO:+0200
TZNAME:CEST
DTSTART:20270328T010000
END:DAYLIGHT
BEGIN:STANDARD
TZOFFSETFROM:+0200
TZOFFSETTO:+0100
TZNAME:CET
DTSTART:20271031T010000
END:STANDARD
END:VTIMEZONE
BEGIN:VEVENT
DTSTART;TZID=Europe/Amsterdam:20260426T093000
DTEND;TZID=Europe/Amsterdam:20260426T103000
DTSTAMP:20260422T135926
CREATED:20260403T114334Z
LAST-MODIFIED:20260403T114334Z
UID:10001126-1777195800-1777199400@www.hildegardparochie.nl
SUMMARY:4e Zondag van Pasen
DESCRIPTION:
URL:https://www.hildegardparochie.nl/event/4e-zondag-van-pasen-4/
LOCATION:Jozefkerk\, De Gast 38\, Zuidhorn
CATEGORIES:Eucharistieviering
ATTACH;FMTTYPE=image/jpeg:https://www.hildegardparochie.nl/wp-content/uploads/2022/04/jozef-event-1.jpg
END:VEVENT
BEGIN:VEVENT
DTSTART;TZID=Europe/Amsterdam:20260426T110000
DTEND;TZID=Europe/Amsterdam:20260426T120000
DTSTAMP:20260422T135926
CREATED:20260403T114123Z
LAST-MODIFIED:20260403T114123Z
UID:10001124-1777201200-1777204800@www.hildegardparochie.nl
SUMMARY:4e Zondag van Pasen
DESCRIPTION:
URL:https://www.hildegardparochie.nl/event/4e-zondag-van-pasen-2/
LOCATION:Salvatorkerk\, Van Starkenborghstraat 1\, Groningen
CATEGORIES:Gregoriaans koor - T. Tromp,Woord- en communieviering
ATTACH;FMTTYPE=image/jpeg:https://www.hildegardparochie.nl/wp-content/uploads/2022/04/salvator-event-1.jpg
END:VEVENT
BEGIN:VEVENT
DTSTART;TZID=Europe/Amsterdam:20260426T111500
DTEND;TZID=Europe/Amsterdam:20260426T121500
DTSTAMP:20260422T135926
CREATED:20260403T114019Z
LAST-MODIFIED:20260403T114019Z
UID:10001123-1777202100-1777205700@www.hildegardparochie.nl
SUMMARY:4e Zondag van Pasen
DESCRIPTION:
URL:https://www.hildegardparochie.nl/event/4e-zondag-van-pasen/
LOCATION:Emmauskerk\, Ra 4\, Groningen
CATEGORIES:Woord- en communieviering
ATTACH;FMTTYPE=image/jpeg:https://www.hildegardparochie.nl/wp-content/uploads/2022/04/emmaus-event-1.jpg
END:VEVENT
BEGIN:VEVENT
DTSTART;TZID=Europe/Amsterdam:20260429T190000
DTEND;TZID=Europe/Amsterdam:20260429T200000
DTSTAMP:20260422T135926
CREATED:20260403T115212Z
LAST-MODIFIED:20260403T115212Z
UID:10001129-1777489200-1777492800@www.hildegardparochie.nl
SUMMARY:Woensdagavondviering
DESCRIPTION:
URL:https://www.hildegardparochie.nl/event/woensdagavondviering-5/
LOCATION:Salvatorkerk\, Van Starkenborghstraat 1\, Groningen
CATEGORIES:Aanbidding
ATTACH;FMTTYPE=image/jpeg:https://www.hildegardparochie.nl/wp-content/uploads/2023/10/Salvator-woensdagavondviering.jpg
END:VEVENT
END:VCALENDAR